BEGIN:VCALENDAR
VERSION:2.0
PRODID:icalendar-ruby
CALSCALE:GREGORIAN
METHOD:PUBLISH
BEGIN:VEVENT
DTSTAMP:20260420T032606Z
UID:17-847612@cityoflightaurora.org
DTSTART:20260830T150000Z
DTEND:20260830T163000Z
CLASS:PUBLIC
CREATED:20260419T221517
DESCRIPTION:Join us for Sundays at City of Light! \nLearn more here. \nEn 
 Español
LAST-MODIFIED:20260419T221517
LOCATION:724 Pennsylvania Ave\, Aurora IL 60505
SUMMARY:Sunday Worship Gathering
URL;VALUE=URI:https://www.cityoflightaurora.org/events/sunday-worship-gathe
 ring/2026-08-30
ATTACH;FILENAME=DSC_2990.jpg;FMTTYPE=image/jpeg:https://dq5pwpg1q8ru0.cloud
 front.net/2024/09/04/15/38/04/0cd0e460-389b-4b1f-b2eb-6648e9a80c8f/DSC_299
 0.jpg
END:VEVENT
END:VCALENDAR
